Package: crisprBwa Version: 1.4.0 Command: /Library/Frameworks/R.framework/Resources/bin/R CMD check --install=check:crisprBwa.install-out.txt --library=/Library/Frameworks/R.framework/Resources/library --no-vignettes --timings crisprBwa_1.4.0.tar.gz StartedAt: 2023-10-16 00:23:02 -0400 (Mon, 16 Oct 2023) EndedAt: 2023-10-16 00:32:34 -0400 (Mon, 16 Oct 2023) EllapsedTime: 572.8 seconds RetCode: 0 Status: OK CheckDir: crisprBwa.Rcheck Warnings: 0