Package: crisprseekplus Version: 1.26.0 Command: /Library/Frameworks/R.framework/Resources/bin/R CMD build --keep-empty-dirs --no-resave-data crisprseekplus StartedAt: 2023-10-15 17:42:00 -0400 (Sun, 15 Oct 2023) EndedAt: 2023-10-15 17:43:47 -0400 (Sun, 15 Oct 2023) EllapsedTime: 107.3 seconds RetCode: 0 Status: OK PackageFile: crisprseekplus_1.26.0.tar.gz PackageFileSize: 320.6 KiB