Package: crisprseekplus Version: 1.26.0 Command: /home/biocbuild/bbs-3.17-bioc/R/bin/R CMD check --install=check:crisprseekplus.install-out.txt --library=/home/biocbuild/bbs-3.17-bioc/R/site-library --timings crisprseekplus_1.26.0.tar.gz StartedAt: 2023-10-15 20:27:24 -0400 (Sun, 15 Oct 2023) EndedAt: 2023-10-15 20:32:38 -0400 (Sun, 15 Oct 2023) EllapsedTime: 314.7 seconds RetCode: 1 Status: ERROR CheckDir: crisprseekplus.Rcheck Warnings: NA