Package: crossmeta Version: 1.26.0 Command: rm -rf crossmeta.buildbin-libdir && mkdir crossmeta.buildbin-libdir && /Users/biocbuild/BBS/utils/build-universal.sh crossmeta_1.26.0.tar.gz /Library/Frameworks/R.framework/Resources/bin/R crossmeta.buildbin-libdir StartedAt: 2023-10-16 09:13:29 -0400 (Mon, 16 Oct 2023) EndedAt: 2023-10-16 09:14:09 -0400 (Mon, 16 Oct 2023) EllapsedTime: 40.0 seconds RetCode: 0 Status: OK PackageFile: crossmeta_1.26.0.tgz PackageFileSize: 2.772 MiB