Package: cummeRbund Version: 2.42.0 Command: /Library/Frameworks/R.framework/Resources/bin/R CMD check --install=check:cummeRbund.install-out.txt --library=/Library/Frameworks/R.framework/Resources/library --no-vignettes --timings cummeRbund_2.42.0.tar.gz StartedAt: 2023-10-16 00:30:07 -0400 (Mon, 16 Oct 2023) EndedAt: 2023-10-16 00:45:08 -0400 (Mon, 16 Oct 2023) EllapsedTime: 901.5 seconds RetCode: 0 Status: WARNINGS CheckDir: cummeRbund.Rcheck Warnings: 1