Package: cytofQC Version: 1.0.0 Command: /home/biocbuild/bbs-3.17-bioc/R/bin/R CMD check --install=check:cytofQC.install-out.txt --library=/home/biocbuild/bbs-3.17-bioc/R/site-library --timings cytofQC_1.0.0.tar.gz StartedAt: 2023-10-15 20:33:38 -0400 (Sun, 15 Oct 2023) EndedAt: 2023-10-15 20:39:32 -0400 (Sun, 15 Oct 2023) EllapsedTime: 354.6 seconds RetCode: 0 Status: OK CheckDir: cytofQC.Rcheck Warnings: 0