Package: cytofQC Version: 1.0.0 Command: /home/biocbuild/bbs-3.17-bioc/R/bin/R CMD INSTALL cytofQC StartedAt: 2023-10-15 15:46:21 -0400 (Sun, 15 Oct 2023) EndedAt: 2023-10-15 15:46:53 -0400 (Sun, 15 Oct 2023) EllapsedTime: 32.3 seconds RetCode: 0 Status: OK