Package: cytolib Version: 2.12.1 Command: F:\biocbuild\bbs-3.17-bioc\R\bin\R.exe CMD check --no-multiarch --install=check:cytolib.install-out.txt --library=F:\biocbuild\bbs-3.17-bioc\R\library --no-vignettes --timings cytolib_2.12.1.tar.gz StartedAt: 2023-10-16 01:11:51 -0400 (Mon, 16 Oct 2023) EndedAt: 2023-10-16 01:13:31 -0400 (Mon, 16 Oct 2023) EllapsedTime: 99.2 seconds RetCode: 0 Status: WARNINGS CheckDir: cytolib.Rcheck Warnings: 2