Package: cytolib Version: 2.12.1 Command: F:\biocbuild\bbs-3.17-bioc\R\bin\R.exe CMD INSTALL cytolib StartedAt: 2023-10-15 15:48:32 -0400 (Sun, 15 Oct 2023) EndedAt: 2023-10-15 15:52:17 -0400 (Sun, 15 Oct 2023) EllapsedTime: 224.8 seconds RetCode: 0 Status: OK