Package: ddPCRclust Version: 1.20.0 Command: rm -rf ddPCRclust.buildbin-libdir && mkdir ddPCRclust.buildbin-libdir && F:\biocbuild\bbs-3.17-bioc\R\bin\R.exe CMD INSTALL --build --library=ddPCRclust.buildbin-libdir ddPCRclust_1.20.0.tar.gz StartedAt: 2023-10-16 08:40:17 -0400 (Mon, 16 Oct 2023) EndedAt: 2023-10-16 08:40:42 -0400 (Mon, 16 Oct 2023) EllapsedTime: 25.7 seconds RetCode: 0 Status: OK PackageFile: ddPCRclust_1.20.0.zip PackageFileSize: 1.347 MiB