Package: debCAM Version: 1.18.0 Command: /home/biocbuild/bbs-3.17-bioc/R/bin/R CMD INSTALL debCAM StartedAt: 2023-10-15 15:33:33 -0400 (Sun, 15 Oct 2023) EndedAt: 2023-10-15 15:33:43 -0400 (Sun, 15 Oct 2023) EllapsedTime: 10.0 seconds RetCode: 0 Status: OK