Package: derfinderHelper Version: 1.34.0 Command: /home/biocbuild/bbs-3.17-bioc/R/bin/R CMD build --keep-empty-dirs --no-resave-data derfinderHelper StartedAt: 2023-10-15 16:34:41 -0400 (Sun, 15 Oct 2023) EndedAt: 2023-10-15 16:34:58 -0400 (Sun, 15 Oct 2023) EllapsedTime: 16.6 seconds RetCode: 0 Status: OK PackageFile: derfinderHelper_1.34.0.tar.gz PackageFileSize: 309.5 KiB