Package: derfinderPlot Version: 1.34.0 Command: /Library/Frameworks/R.framework/Resources/bin/R CMD build --keep-empty-dirs --no-resave-data derfinderPlot StartedAt: 2023-10-15 17:54:07 -0400 (Sun, 15 Oct 2023) EndedAt: 2023-10-15 18:01:21 -0400 (Sun, 15 Oct 2023) EllapsedTime: 434.6 seconds RetCode: 0 Status: OK PackageFile: derfinderPlot_1.34.0.tar.gz PackageFileSize: 2.26 MiB