Package: derfinderPlot Version: 1.34.0 Command: /Library/Frameworks/R.framework/Resources/bin/R CMD check --install=check:derfinderPlot.install-out.txt --library=/Library/Frameworks/R.framework/Resources/library --no-vignettes --timings derfinderPlot_1.34.0.tar.gz StartedAt: 2023-10-16 00:51:25 -0400 (Mon, 16 Oct 2023) EndedAt: 2023-10-16 01:15:20 -0400 (Mon, 16 Oct 2023) EllapsedTime: 1434.6 seconds RetCode: 0 Status: OK CheckDir: derfinderPlot.Rcheck Warnings: 0