Package: diffcyt Version: 1.20.0 Command: /home/biocbuild/bbs-3.17-bioc/R/bin/R CMD check --install=check:diffcyt.install-out.txt --library=/home/biocbuild/bbs-3.17-bioc/R/site-library --timings diffcyt_1.20.0.tar.gz StartedAt: 2023-10-15 20:49:40 -0400 (Sun, 15 Oct 2023) EndedAt: 2023-10-15 20:54:45 -0400 (Sun, 15 Oct 2023) EllapsedTime: 304.6 seconds RetCode: 0 Status: OK CheckDir: diffcyt.Rcheck Warnings: 0