Package: diffcyt Version: 1.20.0 Command: chmod a+r diffcyt -R && F:\biocbuild\bbs-3.17-bioc\R\bin\R.exe CMD build --keep-empty-dirs --no-resave-data diffcyt StartedAt: 2023-10-15 18:44:39 -0400 (Sun, 15 Oct 2023) EndedAt: 2023-10-15 18:46:41 -0400 (Sun, 15 Oct 2023) EllapsedTime: 121.2 seconds RetCode: 0 Status: OK PackageFile: diffcyt_1.20.0.tar.gz PackageFileSize: 673.3 KiB