Package: distinct Version: 1.12.2 Command: chmod a+r distinct -R && F:\biocbuild\bbs-3.17-bioc\R\bin\R.exe CMD build --keep-empty-dirs --no-resave-data distinct StartedAt: 2023-10-15 18:47:06 -0400 (Sun, 15 Oct 2023) EndedAt: 2023-10-15 18:50:49 -0400 (Sun, 15 Oct 2023) EllapsedTime: 223.0 seconds RetCode: 0 Status: OK PackageFile: distinct_1.12.2.tar.gz PackageFileSize: 1.471 MiB