Package: doubletrouble Version: 1.0.0 Command: /home/biocbuild/bbs-3.17-bioc/R/bin/R CMD check --install=check:doubletrouble.install-out.txt --library=/home/biocbuild/bbs-3.17-bioc/R/site-library --timings doubletrouble_1.0.0.tar.gz StartedAt: 2023-10-15 20:56:59 -0400 (Sun, 15 Oct 2023) EndedAt: 2023-10-15 21:01:46 -0400 (Sun, 15 Oct 2023) EllapsedTime: 286.8 seconds RetCode: 0 Status: OK CheckDir: doubletrouble.Rcheck Warnings: 0