Package: doubletrouble Version: 1.0.0 Command: F:\biocbuild\bbs-3.17-bioc\R\bin\R.exe CMD INSTALL doubletrouble StartedAt: 2023-10-15 16:34:29 -0400 (Sun, 15 Oct 2023) EndedAt: 2023-10-15 16:35:10 -0400 (Sun, 15 Oct 2023) EllapsedTime: 40.7 seconds RetCode: 0 Status: OK