Package: dpeak Version: 1.12.0 Command: /Library/Frameworks/R.framework/Resources/bin/R CMD build --keep-empty-dirs --no-resave-data dpeak StartedAt: 2023-10-15 18:04:20 -0400 (Sun, 15 Oct 2023) EndedAt: 2023-10-15 18:08:17 -0400 (Sun, 15 Oct 2023) EllapsedTime: 236.9 seconds RetCode: 0 Status: OK PackageFile: dpeak_1.12.0.tar.gz PackageFileSize: 418.3 KiB