Package: dpeak Version: 1.12.0 Command: rm -rf dpeak.buildbin-libdir && mkdir dpeak.buildbin-libdir && F:\biocbuild\bbs-3.17-bioc\R\bin\R.exe CMD INSTALL --build --library=dpeak.buildbin-libdir dpeak_1.12.0.tar.gz StartedAt: 2023-10-16 08:43:43 -0400 (Mon, 16 Oct 2023) EndedAt: 2023-10-16 08:45:07 -0400 (Mon, 16 Oct 2023) EllapsedTime: 83.9 seconds RetCode: 0 Status: OK PackageFile: dpeak_1.12.0.zip PackageFileSize: 976.5 KiB