Package: dpeak Version: 1.12.0 Command: chmod a+r dpeak -R && F:\biocbuild\bbs-3.17-bioc\R\bin\R.exe CMD build --keep-empty-dirs --no-resave-data dpeak StartedAt: 2023-10-15 18:50:14 -0400 (Sun, 15 Oct 2023) EndedAt: 2023-10-15 18:52:02 -0400 (Sun, 15 Oct 2023) EllapsedTime: 108.7 seconds RetCode: 0 Status: OK PackageFile: dpeak_1.12.0.tar.gz PackageFileSize: 295 KiB