Package: dpeak Version: 1.12.0 Command: F:\biocbuild\bbs-3.17-bioc\R\bin\R.exe CMD INSTALL dpeak StartedAt: 2023-10-15 16:12:25 -0400 (Sun, 15 Oct 2023) EndedAt: 2023-10-15 16:13:52 -0400 (Sun, 15 Oct 2023) EllapsedTime: 87.8 seconds RetCode: 0 Status: OK