Package: ecolitk Version: 1.72.0 Command: /home/biocbuild/bbs-3.17-bioc/R/bin/R CMD build --keep-empty-dirs --no-resave-data ecolitk StartedAt: 2023-10-15 16:40:43 -0400 (Sun, 15 Oct 2023) EndedAt: 2023-10-15 16:40:59 -0400 (Sun, 15 Oct 2023) EllapsedTime: 15.6 seconds RetCode: 0 Status: OK PackageFile: ecolitk_1.72.0.tar.gz PackageFileSize: 1.68 MiB