Package: edgeR Version: 3.42.4 Command: /home/biocbuild/bbs-3.17-bioc/R/bin/R CMD check --install=check:edgeR.install-out.txt --library=/home/biocbuild/bbs-3.17-bioc/R/site-library --timings edgeR_3.42.4.tar.gz StartedAt: 2023-10-15 21:02:13 -0400 (Sun, 15 Oct 2023) EndedAt: 2023-10-15 21:03:21 -0400 (Sun, 15 Oct 2023) EllapsedTime: 67.9 seconds RetCode: 0 Status: OK CheckDir: edgeR.Rcheck Warnings: 0