Package: epivizr Version: 2.30.0 Command: /home/biocbuild/bbs-3.17-bioc/R/bin/R CMD build --keep-empty-dirs --no-resave-data epivizr StartedAt: 2023-10-15 16:43:50 -0400 (Sun, 15 Oct 2023) EndedAt: 2023-10-15 16:44:58 -0400 (Sun, 15 Oct 2023) EllapsedTime: 68.2 seconds RetCode: 0 Status: OK PackageFile: epivizr_2.30.0.tar.gz PackageFileSize: 1.151 MiB