Package: epivizr Version: 2.30.0 Command: /home/biocbuild/bbs-3.17-bioc/R/bin/R CMD INSTALL epivizr StartedAt: 2023-10-15 15:24:02 -0400 (Sun, 15 Oct 2023) EndedAt: 2023-10-15 15:24:43 -0400 (Sun, 15 Oct 2023) EllapsedTime: 41.2 seconds RetCode: 0 Status: OK