Package: epivizrServer Version: 1.28.0 Command: /home/biocbuild/bbs-3.17-bioc/R/bin/R CMD build --keep-empty-dirs --no-resave-data epivizrServer StartedAt: 2023-10-15 16:44:09 -0400 (Sun, 15 Oct 2023) EndedAt: 2023-10-15 16:44:15 -0400 (Sun, 15 Oct 2023) EllapsedTime: 5.9 seconds RetCode: 0 Status: OK PackageFile: epivizrServer_1.28.0.tar.gz PackageFileSize: 229.9 KiB