Package: eudysbiome Version: 1.30.0 Command: rm -rf eudysbiome.buildbin-libdir && mkdir eudysbiome.buildbin-libdir && /Users/biocbuild/BBS/utils/build-universal.sh eudysbiome_1.30.0.tar.gz /Library/Frameworks/R.framework/Resources/bin/R eudysbiome.buildbin-libdir StartedAt: 2023-10-16 09:22:23 -0400 (Mon, 16 Oct 2023) EndedAt: 2023-10-16 09:23:22 -0400 (Mon, 16 Oct 2023) EllapsedTime: 58.7 seconds RetCode: 0 Status: OK PackageFile: eudysbiome_1.30.0.tgz PackageFileSize: 4.407 MiB