Package: evaluomeR Version: 1.16.0 Command: rm -rf evaluomeR.buildbin-libdir && mkdir evaluomeR.buildbin-libdir && /Users/biocbuild/BBS/utils/build-universal.sh evaluomeR_1.16.0.tar.gz /Library/Frameworks/R.framework/Resources/bin/R evaluomeR.buildbin-libdir StartedAt: 2023-10-16 09:22:30 -0400 (Mon, 16 Oct 2023) EndedAt: 2023-10-16 09:24:21 -0400 (Mon, 16 Oct 2023) EllapsedTime: 110.8 seconds RetCode: 0 Status: OK PackageFile: evaluomeR_1.16.0.tgz PackageFileSize: 989.1 KiB