Package: fCI Version: 1.30.0 Command: /Library/Frameworks/R.framework/Resources/bin/R CMD check --install=check:fCI.install-out.txt --library=/Library/Frameworks/R.framework/Resources/library --no-vignettes --timings fCI_1.30.0.tar.gz StartedAt: 2023-10-16 01:39:54 -0400 (Mon, 16 Oct 2023) EndedAt: 2023-10-16 01:41:29 -0400 (Mon, 16 Oct 2023) EllapsedTime: 94.7 seconds RetCode: 0 Status: OK CheckDir: fCI.Rcheck Warnings: 0