Package: fabia Version: 2.46.0 Command: rm -rf fabia.buildbin-libdir && mkdir fabia.buildbin-libdir && /Users/biocbuild/BBS/utils/build-universal.sh fabia_2.46.0.tar.gz /Library/Frameworks/R.framework/Resources/bin/R fabia.buildbin-libdir StartedAt: 2023-10-16 09:23:22 -0400 (Mon, 16 Oct 2023) EndedAt: 2023-10-16 09:24:02 -0400 (Mon, 16 Oct 2023) EllapsedTime: 40.1 seconds RetCode: 0 Status: OK PackageFile: fabia_2.46.0.tgz PackageFileSize: 1.14 MiB