Package: fabia Version: 2.46.0 Command: /Library/Frameworks/R.framework/Resources/bin/R CMD check --install=check:fabia.install-out.txt --library=/Library/Frameworks/R.framework/Resources/library --no-vignettes --timings fabia_2.46.0.tar.gz StartedAt: 2023-10-16 01:38:04 -0400 (Mon, 16 Oct 2023) EndedAt: 2023-10-16 01:39:50 -0400 (Mon, 16 Oct 2023) EllapsedTime: 105.8 seconds RetCode: 0 Status: WARNINGS CheckDir: fabia.Rcheck Warnings: 2