Package: fabia Version: 2.46.0 Command: /Library/Frameworks/R.framework/Resources/bin/R CMD INSTALL fabia StartedAt: 2023-10-15 15:04:40 -0400 (Sun, 15 Oct 2023) EndedAt: 2023-10-15 15:05:50 -0400 (Sun, 15 Oct 2023) EllapsedTime: 70.0 seconds RetCode: 0 Status: OK