Package: fabia Version: 2.46.0 Command: rm -rf fabia.buildbin-libdir && mkdir fabia.buildbin-libdir && F:\biocbuild\bbs-3.17-bioc\R\bin\R.exe CMD INSTALL --build --library=fabia.buildbin-libdir fabia_2.46.0.tar.gz StartedAt: 2023-10-16 08:47:09 -0400 (Mon, 16 Oct 2023) EndedAt: 2023-10-16 08:47:32 -0400 (Mon, 16 Oct 2023) EllapsedTime: 23.1 seconds RetCode: 0 Status: OK PackageFile: fabia_2.46.0.zip PackageFileSize: 1.1 MiB