Package: fastLiquidAssociation Version: 1.36.0 Command: rm -rf fastLiquidAssociation.buildbin-libdir && mkdir fastLiquidAssociation.buildbin-libdir && F:\biocbuild\bbs-3.17-bioc\R\bin\R.exe CMD INSTALL --build --library=fastLiquidAssociation.buildbin-libdir fastLiquidAssociation_1.36.0.tar.gz StartedAt: 2023-10-16 08:47:19 -0400 (Mon, 16 Oct 2023) EndedAt: 2023-10-16 08:47:52 -0400 (Mon, 16 Oct 2023) EllapsedTime: 32.4 seconds RetCode: 0 Status: OK PackageFile: fastLiquidAssociation_1.36.0.zip PackageFileSize: 668.1 KiB