Package: fedup Version: 1.8.0 Command: chmod a+r fedup -R && F:\biocbuild\bbs-3.17-bioc\R\bin\R.exe CMD build --keep-empty-dirs --no-resave-data fedup StartedAt: 2023-10-15 19:12:34 -0400 (Sun, 15 Oct 2023) EndedAt: 2023-10-15 19:14:39 -0400 (Sun, 15 Oct 2023) EllapsedTime: 125.3 seconds RetCode: 0 Status: OK PackageFile: fedup_1.8.0.tar.gz PackageFileSize: 3.479 MiB