Package: fedup Version: 1.8.0 Command: F:\biocbuild\bbs-3.17-bioc\R\bin\R.exe CMD INSTALL fedup StartedAt: 2023-10-15 16:55:59 -0400 (Sun, 15 Oct 2023) EndedAt: 2023-10-15 16:56:11 -0400 (Sun, 15 Oct 2023) EllapsedTime: 11.8 seconds RetCode: 0 Status: OK