Package: flowGate Version: 1.0.0 Command: /Library/Frameworks/R.framework/Resources/bin/R CMD build --keep-empty-dirs --no-resave-data flowGate StartedAt: 2023-10-15 18:22:14 -0400 (Sun, 15 Oct 2023) EndedAt: 2023-10-15 18:23:36 -0400 (Sun, 15 Oct 2023) EllapsedTime: 82.2 seconds RetCode: 0 Status: OK PackageFile: flowGate_1.0.0.tar.gz PackageFileSize: 2.087 MiB