Package: flowMatch Version: 1.36.0 Command: /home/biocbuild/bbs-3.17-bioc/R/bin/R CMD build --keep-empty-dirs --no-resave-data flowMatch StartedAt: 2023-10-15 16:49:41 -0400 (Sun, 15 Oct 2023) EndedAt: 2023-10-15 16:50:41 -0400 (Sun, 15 Oct 2023) EllapsedTime: 59.9 seconds RetCode: 0 Status: OK PackageFile: flowMatch_1.36.0.tar.gz PackageFileSize: 3.556 MiB