Package: flowMatch Version: 1.36.0 Command: /home/biocbuild/bbs-3.17-bioc/R/bin/R CMD INSTALL flowMatch StartedAt: 2023-10-15 15:14:05 -0400 (Sun, 15 Oct 2023) EndedAt: 2023-10-15 15:14:35 -0400 (Sun, 15 Oct 2023) EllapsedTime: 29.7 seconds RetCode: 0 Status: OK