Package: flowMeans Version: 1.60.0 Command: /home/biocbuild/bbs-3.17-bioc/R/bin/R CMD build --keep-empty-dirs --no-resave-data flowMeans StartedAt: 2023-10-15 16:49:42 -0400 (Sun, 15 Oct 2023) EndedAt: 2023-10-15 16:50:18 -0400 (Sun, 15 Oct 2023) EllapsedTime: 35.5 seconds RetCode: 0 Status: OK PackageFile: flowMeans_1.60.0.tar.gz PackageFileSize: 3.193 MiB