Package: flowMeans Version: 1.60.0 Command: /home/biocbuild/bbs-3.17-bioc/R/bin/R CMD INSTALL flowMeans StartedAt: 2023-10-15 15:14:06 -0400 (Sun, 15 Oct 2023) EndedAt: 2023-10-15 15:14:19 -0400 (Sun, 15 Oct 2023) EllapsedTime: 12.7 seconds RetCode: 0 Status: OK