Package: flowMerge Version: 2.48.0 Command: /Library/Frameworks/R.framework/Resources/bin/R CMD INSTALL flowMerge StartedAt: 2023-10-15 15:26:21 -0400 (Sun, 15 Oct 2023) EndedAt: 2023-10-15 15:27:21 -0400 (Sun, 15 Oct 2023) EllapsedTime: 59.9 seconds RetCode: 0 Status: OK