Package: flowMerge Version: 2.48.0 Command: /home/biocbuild/bbs-3.17-bioc/R/bin/R CMD check --install=check:flowMerge.install-out.txt --library=/home/biocbuild/bbs-3.17-bioc/R/site-library --timings flowMerge_2.48.0.tar.gz StartedAt: 2023-10-15 21:24:04 -0400 (Sun, 15 Oct 2023) EndedAt: 2023-10-15 21:25:49 -0400 (Sun, 15 Oct 2023) EllapsedTime: 104.8 seconds RetCode: 0 Status: WARNINGS CheckDir: flowMerge.Rcheck Warnings: 1