Package: flowMerge Version: 2.48.0 Command: /home/biocbuild/bbs-3.17-bioc/R/bin/R CMD INSTALL flowMerge StartedAt: 2023-10-15 15:15:38 -0400 (Sun, 15 Oct 2023) EndedAt: 2023-10-15 15:15:54 -0400 (Sun, 15 Oct 2023) EllapsedTime: 16.6 seconds RetCode: 0 Status: OK