Package: flowMerge Version: 2.48.0 Command: rm -rf flowMerge.buildbin-libdir && mkdir flowMerge.buildbin-libdir && F:\biocbuild\bbs-3.17-bioc\R\bin\R.exe CMD INSTALL --build --library=flowMerge.buildbin-libdir flowMerge_2.48.0.tar.gz StartedAt: 2023-10-16 08:48:52 -0400 (Mon, 16 Oct 2023) EndedAt: 2023-10-16 08:49:15 -0400 (Mon, 16 Oct 2023) EllapsedTime: 23.2 seconds RetCode: 0 Status: OK PackageFile: flowMerge_2.48.0.zip PackageFileSize: 894.6 KiB