Package: flowMerge Version: 2.48.0 Command: chmod a+r flowMerge -R && F:\biocbuild\bbs-3.17-bioc\R\bin\R.exe CMD build --keep-empty-dirs --no-resave-data flowMerge StartedAt: 2023-10-15 19:19:10 -0400 (Sun, 15 Oct 2023) EndedAt: 2023-10-15 19:20:08 -0400 (Sun, 15 Oct 2023) EllapsedTime: 57.1 seconds RetCode: 0 Status: OK PackageFile: flowMerge_2.48.0.tar.gz PackageFileSize: 450.6 KiB