Package: flowMerge Version: 2.48.0 Command: F:\biocbuild\bbs-3.17-bioc\R\bin\R.exe CMD INSTALL flowMerge StartedAt: 2023-10-15 16:06:42 -0400 (Sun, 15 Oct 2023) EndedAt: 2023-10-15 16:07:06 -0400 (Sun, 15 Oct 2023) EllapsedTime: 23.8 seconds RetCode: 0 Status: OK