Package: flowPlots Version: 1.48.0 Command: /home/biocbuild/bbs-3.17-bioc/R/bin/R CMD check --install=check:flowPlots.install-out.txt --library=/home/biocbuild/bbs-3.17-bioc/R/site-library --timings flowPlots_1.48.0.tar.gz StartedAt: 2023-10-15 21:24:30 -0400 (Sun, 15 Oct 2023) EndedAt: 2023-10-15 21:25:05 -0400 (Sun, 15 Oct 2023) EllapsedTime: 35.6 seconds RetCode: 0 Status: OK CheckDir: flowPlots.Rcheck Warnings: 0